BEGIN:VCALENDAR
VERSION:2.0
PRODID:-//Countryside Sabbath Fellowship - ECPv6.15.20//NONSGML v1.0//EN
CALSCALE:GREGORIAN
METHOD:PUBLISH
X-ORIGINAL-URL:https://csf-sda.org
X-WR-CALDESC:Events for Countryside Sabbath Fellowship
REFRESH-INTERVAL;VALUE=DURATION:PT1H
X-Robots-Tag:noindex
X-PUBLISHED-TTL:PT1H
BEGIN:VTIMEZONE
TZID:America/Los_Angeles
BEGIN:DAYLIGHT
TZOFFSETFROM:-0800
TZOFFSETTO:-0700
TZNAME:PDT
DTSTART:20250309T100000
END:DAYLIGHT
BEGIN:STANDARD
TZOFFSETFROM:-0700
TZOFFSETTO:-0800
TZNAME:PST
DTSTART:20251102T090000
END:STANDARD
BEGIN:DAYLIGHT
TZOFFSETFROM:-0800
TZOFFSETTO:-0700
TZNAME:PDT
DTSTART:20260308T100000
END:DAYLIGHT
BEGIN:STANDARD
TZOFFSETFROM:-0700
TZOFFSETTO:-0800
TZNAME:PST
DTSTART:20261101T090000
END:STANDARD
BEGIN:DAYLIGHT
TZOFFSETFROM:-0800
TZOFFSETTO:-0700
TZNAME:PDT
DTSTART:20270314T100000
END:DAYLIGHT
BEGIN:STANDARD
TZOFFSETFROM:-0700
TZOFFSETTO:-0800
TZNAME:PST
DTSTART:20271107T090000
END:STANDARD
END:VTIMEZONE
BEGIN:VEVENT
DTSTART;TZID=America/Los_Angeles:20260502T110000
DTEND;TZID=America/Los_Angeles:20260502T120000
DTSTAMP:20260425T092452
CREATED:20260327T041350Z
LAST-MODIFIED:20260327T041350Z
UID:1290-1777719600-1777723200@csf-sda.org
SUMMARY:Health Presentation
DESCRIPTION:Speaking time: \n10:50 am
URL:https://csf-sda.org/event/health-presentation-5
END:VEVENT
BEGIN:VEVENT
DTSTART;TZID=America/Los_Angeles:20260509T110000
DTEND;TZID=America/Los_Angeles:20260509T120000
DTSTAMP:20260425T092452
CREATED:20260327T041428Z
LAST-MODIFIED:20260327T041428Z
UID:1292-1778324400-1778328000@csf-sda.org
SUMMARY:Pastor Al Fletcher
DESCRIPTION:Speaking time: \n10:50 am
URL:https://csf-sda.org/event/pastor-al-fletcher-5
END:VEVENT
BEGIN:VEVENT
DTSTART;TZID=America/Los_Angeles:20260516T093000
DTEND;TZID=America/Los_Angeles:20260516T140000
DTSTAMP:20260425T092452
CREATED:20260327T041532Z
LAST-MODIFIED:20260327T041532Z
UID:1294-1778923800-1778940000@csf-sda.org
SUMMARY:Pastor Marko Kolic
DESCRIPTION:Speaking times: \n9:30 am\, 10:50 am & 2:00 pm
URL:https://csf-sda.org/event/pastor-marko-kolic
END:VEVENT
BEGIN:VEVENT
DTSTART;TZID=America/Los_Angeles:20260523T093000
DTEND;TZID=America/Los_Angeles:20260523T120000
DTSTAMP:20260425T092452
CREATED:20260327T041605Z
LAST-MODIFIED:20260327T041605Z
UID:1296-1779528600-1779537600@csf-sda.org
SUMMARY:Elder Roy Hall
DESCRIPTION:Speaking times: \n9:30 am & 10:50 am
URL:https://csf-sda.org/event/elder-roy-hall-5
END:VEVENT
BEGIN:VEVENT
DTSTART;TZID=America/Los_Angeles:20260530T093000
DTEND;TZID=America/Los_Angeles:20260530T140000
DTSTAMP:20260425T092452
CREATED:20260327T041654Z
LAST-MODIFIED:20260327T041654Z
UID:1298-1780133400-1780149600@csf-sda.org
SUMMARY:Pastor Hector Torres
DESCRIPTION:Speaking times: \n9:30 am\, 10:50 am & 2:00 pm
URL:https://csf-sda.org/event/pastor-hector-torres
END:VEVENT
END:VCALENDAR